BEGIN:VCALENDAR
VERSION:2.0
PRODID:-//European Small States Institute - ECPv6.15.1.1//NONSGML v1.0//EN
CALSCALE:GREGORIAN
METHOD:PUBLISH
X-WR-CALNAME:European Small States Institute
X-ORIGINAL-URL:https://essimonaco.org
X-WR-CALDESC:Events for European Small States Institute
REFRESH-INTERVAL;VALUE=DURATION:PT1H
X-Robots-Tag:noindex
X-PUBLISHED-TTL:PT1H
BEGIN:VTIMEZONE
TZID:UTC
BEGIN:STANDARD
TZOFFSETFROM:+0000
TZOFFSETTO:+0000
TZNAME:UTC
DTSTART:20160101T000000
END:STANDARD
END:VTIMEZONE
BEGIN:VEVENT
DTSTART;TZID=UTC:20160805T080000
DTEND;TZID=UTC:20160817T170000
DTSTAMP:20260423T171045
CREATED:20150531T213700Z
LAST-MODIFIED:20151116T112632Z
UID:443-1470384000-1471453200@essimonaco.org
SUMMARY:School for Young Leaders
DESCRIPTION:For 10 days\, Macedonia’s “best and brightest” will be provided the opportunity to attend presentations and seminars designed to develop their leadership skills and creative potential. \nOn 18 August 2016 the 7th annual School for Young Leaders will be held on Lake Ohrid\, Macedonia where Dr. Boris Porkovich\, representing the Institute for the Study of European Small States (ISESS)\, has been invited to deliver a session titled “Motivating Others: How Leaders Create Purpose\, Confidence\, and Resolve.” \nOn 18 August 2016 the 7th annual School for Young Leaders will be held on Lake Ohrid\, Macedonia where Dr. Boris Porkovich\, representing the Institute for the Study of European Small States (ISESS)\, has been invited to deliver a session titled “Motivating Others: How Leaders Create Purpose\, Confidence\, and Resolve.” \nDr. Porkovich is excited about the prospect of working with this group of talented young people. Commenting on the importance of the School’s work\, he noted that “the School for Young Leaders is an exceptional forum and I am honored to have been invited to be part of this initiative. These young leaders will play a significant role in the future of Macedonia and as future leaders in an integrated European Union.” \nThe School for Young Leaders is an initiative of the President of the Republic of Macedonia\, Dr. Gjorge Ivanov\, and integrates his vision for the advancement of the youth of Macedonia through the development of the country’s future leaders.  The aims of the School are to bring together aspiring young leaders and provide the opportunity to advance their leadership skills\, develop their potential for innovation\, and ultimately build Macedonia’s managerial capacity. \nThe training program includes lectures and training exercises in the areas of leadership and management by lecturers from global academic and professional educational institutions\, political figures\, corporate leaders\, and business groups. \nH.E. Dr. Vaclav Klaus\, the 2nd President of the Czech Republic\, will deliver the School’s 2013 opening address.
URL:https://essimonaco.org/event/annual-festival-week/
LOCATION:Lake Ohrid\, Ohrid\, Macedonia
ATTACH;FMTTYPE=image/jpeg:https://www.essimonaco.org/wp-content/uploads/2015/05/photodune-844284-at-lecture-SKYLINE.jpg
END:VEVENT
END:VCALENDAR